BEGIN:VCALENDAR
VERSION:2.0
PRODID:SchoolNow
CALSCALE:GREGORIAN
BEGIN:VEVENT
UID:21dd986e-9d65-11f0-ad14-0e3e74389673
DTSTAMP:20251217T020515Z
SUMMARY:HS Art Club
URL;VALUE=URI:https://www.sau14.org/emhs/calendar/8677758/hs-art-club
DTSTART:20251022T183000Z
DTEND:20251022T193000Z
END:VEVENT
END:VCALENDAR
