BEGIN:VCALENDAR
VERSION:2.0
PRODID:SchoolNow
CALSCALE:GREGORIAN
BEGIN:VEVENT
UID:21dd9a9e-9d65-11f0-9f52-0e3e74389673
DTSTAMP:20251217T020515Z
SUMMARY:HS Art Club
URL;VALUE=URI:https://www.sau14.org/emhs/calendar/8677760/hs-art-club
DTSTART:20251119T193000Z
DTEND:20251119T203000Z
END:VEVENT
END:VCALENDAR
