BEGIN:VCALENDAR
VERSION:2.0
PRODID:SchoolNow
CALSCALE:GREGORIAN
BEGIN:VEVENT
UID:21dda750-9d65-11f0-af38-0e3e74389673
DTSTAMP:20251217T020515Z
SUMMARY:HS Art Club
URL;VALUE=URI:https://www.sau14.org/emhs/calendar/8677773/hs-art-club
DTSTART:20260520T183000Z
DTEND:20260520T193000Z
END:VEVENT
END:VCALENDAR
