BEGIN:VCALENDAR
VERSION:2.0
PRODID:SchoolNow
CALSCALE:GREGORIAN
BEGIN:VEVENT
UID:16e6b6e4-9e31-11f0-96b7-0e95947de59b
DTSTAMP:20251217T020514Z
SUMMARY:Guidance Career Exploration - Portsmouth Regional Hospital
URL;VALUE=URI:https://www.sau14.org/emhs/calendar/8681500/guidance-career-e
 xploration-portsmouth-regional-hospital
DTSTART:20251024T151500Z
DTEND:20251024T181500Z
END:VEVENT
END:VCALENDAR
