BEGIN:VCALENDAR
VERSION:2.0
PRODID:SchoolNow
CALSCALE:GREGORIAN
BEGIN:VEVENT
UID:16f96fa0-9e31-11f0-a705-0e95947de59b
DTSTAMP:20251217T020515Z
SUMMARY:EMS Grades 6-8 Club Block 5
URL;VALUE=URI:https://www.sau14.org/emhs/calendar/8681504/ems-grades-6-8-cl
 ub-block-5
DTSTART:20251028T183000Z
DTEND:20251028T193000Z
END:VEVENT
END:VCALENDAR
