BEGIN:VCALENDAR
VERSION:2.0
PRODID:SchoolNow
CALSCALE:GREGORIAN
BEGIN:VEVENT
UID:170dfb1e-9e31-11f0-a34a-0e95947de59b
DTSTAMP:20251217T020515Z
SUMMARY:EMS Grades 6-8 Club Block 5
URL;VALUE=URI:https://www.sau14.org/emhs/calendar/8681508/ems-grades-6-8-cl
 ub-block-5
DTSTART:20251125T193000Z
DTEND:20251125T203000Z
END:VEVENT
END:VCALENDAR
