BEGIN:VCALENDAR
VERSION:2.0
PRODID:SchoolNow
CALSCALE:GREGORIAN
BEGIN:VEVENT
UID:170e0d34-9e31-11f0-9eee-0e95947de59b
DTSTAMP:20251217T020515Z
SUMMARY:EMS Grades 6-8 Club Block 5
URL;VALUE=URI:https://www.sau14.org/emhs/calendar/8681522/ems-grades-6-8-cl
 ub-block-5
DTSTART:20260303T193000Z
DTEND:20260303T203000Z
END:VEVENT
END:VCALENDAR
