BEGIN:VCALENDAR
VERSION:2.0
PRODID:SchoolNow
CALSCALE:GREGORIAN
BEGIN:VEVENT
UID:170e137e-9e31-11f0-843c-0e95947de59b
DTSTAMP:20251217T020515Z
SUMMARY:EMS Grades 6-8 Club Block 5
URL;VALUE=URI:https://www.sau14.org/emhs/calendar/8681529/ems-grades-6-8-cl
 ub-block-5
DTSTART:20260421T183000Z
DTEND:20260421T193000Z
END:VEVENT
END:VCALENDAR
