BEGIN:VCALENDAR
VERSION:2.0
PRODID:SchoolNow
CALSCALE:GREGORIAN
BEGIN:VEVENT
UID:170e1928-9e31-11f0-aae5-0e95947de59b
DTSTAMP:20251217T020515Z
SUMMARY:EMS Grades 6-8 Club Block 5
URL;VALUE=URI:https://www.sau14.org/emhs/calendar/8681535/ems-grades-6-8-cl
 ub-block-5
DTSTART:20260602T183000Z
DTEND:20260602T193000Z
END:VEVENT
END:VCALENDAR
