BEGIN:VCALENDAR
VERSION:2.0
PRODID:SchoolNow
CALSCALE:GREGORIAN
BEGIN:VEVENT
UID:170e203a-9e31-11f0-b0a0-0e95947de59b
DTSTAMP:20251217T020515Z
SUMMARY:EMS Grades 6-8 Club Block 5
LOCATION:M220
URL;VALUE=URI:https://www.sau14.org/emhs/calendar/8681539/ems-grades-6-8-cl
 ub-block-5
DTSTART:20251022T183000Z
DTEND:20251022T193000Z
END:VEVENT
END:VCALENDAR
