BEGIN:VCALENDAR
VERSION:2.0
PRODID:SchoolNow
CALSCALE:GREGORIAN
BEGIN:VEVENT
UID:170e22e2-9e31-11f0-80d6-0e95947de59b
DTSTAMP:20251217T020515Z
SUMMARY:EMS Grades 6-8 Club Block 5
LOCATION:M220
URL;VALUE=URI:https://www.sau14.org/emhs/calendar/8681542/ems-grades-6-8-cl
 ub-block-5
DTSTART:20251112T193000Z
DTEND:20251112T203000Z
END:VEVENT
END:VCALENDAR
