BEGIN:VCALENDAR
VERSION:2.0
PRODID:SchoolNow
CALSCALE:GREGORIAN
BEGIN:VEVENT
UID:1748014c-9e31-11f0-ab45-0e95947de59b
DTSTAMP:20251217T020515Z
SUMMARY:EMS Grades 6-8 Club Block 5
LOCATION:M220
URL;VALUE=URI:https://www.sau14.org/emhs/calendar/8681572/ems-grades-6-8-cl
 ub-block-5
DTSTART:20260610T183000Z
DTEND:20260610T193000Z
END:VEVENT
END:VCALENDAR
