BEGIN:VCALENDAR
VERSION:2.0
PRODID:SchoolNow
CALSCALE:GREGORIAN
BEGIN:VEVENT
UID:17480318-9e31-11f0-9865-0e95947de59b
DTSTAMP:20251217T020515Z
SUMMARY:Class Of 2028 - Virtual Popcorn Fundraiser
URL;VALUE=URI:https://www.sau14.org/emhs/calendar/8681574/class-of-2028-vir
 tual-popcorn-fundraiser
DTSTART;VALUE=DATE:20251015
DTEND;VALUE=DATE:20251016
END:VEVENT
END:VCALENDAR
