BEGIN:VCALENDAR
VERSION:2.0
PRODID:SchoolNow
CALSCALE:GREGORIAN
BEGIN:VEVENT
UID:174803fe-9e31-11f0-8cc9-0e95947de59b
DTSTAMP:20251217T020515Z
SUMMARY:Class Of 2028 - Virtual Popcorn Fundraiser
URL;VALUE=URI:https://www.sau14.org/emhs/calendar/8681575/class-of-2028-vir
 tual-popcorn-fundraiser
DTSTART;VALUE=DATE:20251016
DTEND;VALUE=DATE:20251017
END:VEVENT
END:VCALENDAR
