BEGIN:VCALENDAR
VERSION:2.0
PRODID:SchoolNow
CALSCALE:GREGORIAN
BEGIN:VEVENT
UID:174804e4-9e31-11f0-a852-0e95947de59b
DTSTAMP:20251217T020515Z
SUMMARY:Class Of 2028 - Virtual Popcorn Fundraiser
URL;VALUE=URI:https://www.sau14.org/emhs/calendar/8681576/class-of-2028-vir
 tual-popcorn-fundraiser
DTSTART;VALUE=DATE:20251017
DTEND;VALUE=DATE:20251018
END:VEVENT
END:VCALENDAR
