BEGIN:VCALENDAR
VERSION:2.0
PRODID:SchoolNow
CALSCALE:GREGORIAN
BEGIN:VEVENT
UID:0f9757b0-9eca-11f0-89fb-0e292c54c97b
DTSTAMP:20251217T020514Z
SUMMARY:6-8 After School Art Club
URL;VALUE=URI:https://www.sau14.org/emhs/calendar/8684002/6-8-after-school-
 art-club
DTSTART:20251217T193000Z
DTEND:20251217T203000Z
END:VEVENT
END:VCALENDAR
