BEGIN:VCALENDAR
VERSION:2.0
PRODID:SchoolNow
CALSCALE:GREGORIAN
BEGIN:VEVENT
UID:0f975c74-9eca-11f0-83a2-0e292c54c97b
DTSTAMP:20251217T020514Z
SUMMARY:6th - 8th After School Art Club
URL;VALUE=URI:https://www.sau14.org/emhs/calendar/8684004/6th-8th-after-sch
 ool-art-club
DTSTART:20260520T183000Z
DTEND:20260520T193000Z
END:VEVENT
END:VCALENDAR
