BEGIN:VCALENDAR
VERSION:2.0
PRODID:SchoolNow
CALSCALE:GREGORIAN
BEGIN:VEVENT
UID:0555bab8-9f96-11f0-a3fc-0a58a9feac02
DTSTAMP:20251217T020514Z
SUMMARY:Town / School Elections
LOCATION:O'Day Gym
URL;VALUE=URI:https://www.sau14.org/emhs/calendar/8687529/town-school-elect
 ions
DTSTART:20260310T110000Z
DTEND:20260310T230000Z
END:VEVENT
END:VCALENDAR
