BEGIN:VCALENDAR
VERSION:2.0
PRODID:SchoolNow
CALSCALE:GREGORIAN
BEGIN:VEVENT
UID:01e35024-9fc9-11f0-b32e-0a58a9feac02
DTSTAMP:20251217T020514Z
SUMMARY:Science Olympiad Club
URL;VALUE=URI:https://www.sau14.org/emhs/calendar/8688716/science-olympiad-
 club
DTSTART:20260203T193000Z
DTEND:20260203T203000Z
END:VEVENT
END:VCALENDAR
