BEGIN:VCALENDAR
VERSION:2.0
PRODID:SchoolNow
CALSCALE:GREGORIAN
BEGIN:VEVENT
UID:01e3510a-9fc9-11f0-a804-0a58a9feac02
DTSTAMP:20251217T020514Z
SUMMARY:Science Olympiad Club
URL;VALUE=URI:https://www.sau14.org/emhs/calendar/8688717/science-olympiad-
 club
DTSTART:20260210T193000Z
DTEND:20260210T203000Z
END:VEVENT
END:VCALENDAR
