BEGIN:VCALENDAR
VERSION:2.0
PRODID:SchoolNow
CALSCALE:GREGORIAN
BEGIN:VEVENT
UID:01e351f0-9fc9-11f0-a81e-0a58a9feac02
DTSTAMP:20251217T020514Z
SUMMARY:Science Olympiad Club
URL;VALUE=URI:https://www.sau14.org/emhs/calendar/8688718/science-olympiad-
 club
DTSTART:20260217T193000Z
DTEND:20260217T203000Z
END:VEVENT
END:VCALENDAR
