BEGIN:VCALENDAR
VERSION:2.0
PRODID:SchoolNow
CALSCALE:GREGORIAN
BEGIN:VEVENT
UID:01e353bc-9fc9-11f0-9e35-0a58a9feac02
DTSTAMP:20251217T020514Z
SUMMARY:Science Olympiad Club
URL;VALUE=URI:https://www.sau14.org/emhs/calendar/8688720/science-olympiad-
 club
DTSTART:20260303T193000Z
DTEND:20260303T203000Z
END:VEVENT
END:VCALENDAR
