BEGIN:VCALENDAR
VERSION:2.0
PRODID:SchoolNow
CALSCALE:GREGORIAN
BEGIN:VEVENT
UID:01e3557e-9fc9-11f0-8abb-0a58a9feac02
DTSTAMP:20251217T020515Z
SUMMARY:Science Olympiad Club
URL;VALUE=URI:https://www.sau14.org/emhs/calendar/8688722/science-olympiad-
 club
DTSTART:20260317T183000Z
DTEND:20260317T193000Z
END:VEVENT
END:VCALENDAR
