BEGIN:VCALENDAR
VERSION:2.0
PRODID:SchoolNow
CALSCALE:GREGORIAN
BEGIN:VEVENT
UID:01e35664-9fc9-11f0-958d-0a58a9feac02
DTSTAMP:20251217T020515Z
SUMMARY:Science Olympiad Club
URL;VALUE=URI:https://www.sau14.org/emhs/calendar/8688723/science-olympiad-
 club
DTSTART:20260324T183000Z
DTEND:20260324T193000Z
END:VEVENT
END:VCALENDAR
