BEGIN:VCALENDAR
VERSION:2.0
PRODID:SchoolNow
CALSCALE:GREGORIAN
BEGIN:VEVENT
UID:fad460a4-a061-11f0-b05d-0a58a9feac02
DTSTAMP:20251217T020514Z
SUMMARY:Spanish Club
URL;VALUE=URI:https://www.sau14.org/emhs/calendar/8691315/spanish-club
DTSTART:20251006T183000Z
DTEND:20251006T193000Z
END:VEVENT
END:VCALENDAR
