BEGIN:VCALENDAR
VERSION:2.0
PRODID:SchoolNow
CALSCALE:GREGORIAN
BEGIN:VEVENT
UID:f76f91a8-a094-11f0-9c52-0afff922d9ed
DTSTAMP:20251217T020514Z
SUMMARY:Spanish Club
URL;VALUE=URI:https://www.sau14.org/emhs/calendar/8692396/spanish-club
DTSTART:20251106T193000Z
DTEND:20251106T203000Z
END:VEVENT
END:VCALENDAR
