BEGIN:VCALENDAR
VERSION:2.0
PRODID:SchoolNow
CALSCALE:GREGORIAN
BEGIN:VEVENT
UID:f76f9572-a094-11f0-8b78-0afff922d9ed
DTSTAMP:20251217T020514Z
SUMMARY:Spanish Club
URL;VALUE=URI:https://www.sau14.org/emhs/calendar/8692397/spanish-club
DTSTART:20251208T193000Z
DTEND:20251208T203000Z
END:VEVENT
END:VCALENDAR
