BEGIN:VCALENDAR
VERSION:2.0
PRODID:SchoolNow
CALSCALE:GREGORIAN
BEGIN:VEVENT
UID:f76f96bc-a094-11f0-8aea-0afff922d9ed
DTSTAMP:20251217T020514Z
SUMMARY:Spanish Club
URL;VALUE=URI:https://www.sau14.org/emhs/calendar/8692398/spanish-club
DTSTART:20260112T193000Z
DTEND:20260112T203000Z
END:VEVENT
END:VCALENDAR
