BEGIN:VCALENDAR
VERSION:2.0
PRODID:SchoolNow
CALSCALE:GREGORIAN
BEGIN:VEVENT
UID:f76f97d4-a094-11f0-966d-0afff922d9ed
DTSTAMP:20251217T020514Z
SUMMARY:Spanish Club
URL;VALUE=URI:https://www.sau14.org/emhs/calendar/8692399/spanish-club
DTSTART:20260202T193000Z
DTEND:20260202T203000Z
END:VEVENT
END:VCALENDAR
