BEGIN:VCALENDAR
VERSION:2.0
PRODID:SchoolNow
CALSCALE:GREGORIAN
BEGIN:VEVENT
UID:f76f98f6-a094-11f0-a1fd-0afff922d9ed
DTSTAMP:20251217T020514Z
SUMMARY:Spanish Club
URL;VALUE=URI:https://www.sau14.org/emhs/calendar/8692400/spanish-club
DTSTART:20260309T183000Z
DTEND:20260309T193000Z
END:VEVENT
END:VCALENDAR
