BEGIN:VCALENDAR
VERSION:2.0
PRODID:SchoolNow
CALSCALE:GREGORIAN
BEGIN:VEVENT
UID:f76f99fa-a094-11f0-a287-0afff922d9ed
DTSTAMP:20251217T020514Z
SUMMARY:Spanish Club
URL;VALUE=URI:https://www.sau14.org/emhs/calendar/8692401/spanish-club
DTSTART:20260406T183000Z
DTEND:20260406T193000Z
END:VEVENT
END:VCALENDAR
