BEGIN:VCALENDAR
VERSION:2.0
PRODID:SchoolNow
CALSCALE:GREGORIAN
BEGIN:VEVENT
UID:f76f9aea-a094-11f0-bce7-0afff922d9ed
DTSTAMP:20251217T020514Z
SUMMARY:Spanish Club
URL;VALUE=URI:https://www.sau14.org/emhs/calendar/8692402/spanish-club
DTSTART:20260504T183000Z
DTEND:20260504T193000Z
END:VEVENT
END:VCALENDAR
