BEGIN:VCALENDAR
VERSION:2.0
PRODID:SchoolNow
CALSCALE:GREGORIAN
BEGIN:VEVENT
UID:f76f9bda-a094-11f0-9187-0afff922d9ed
DTSTAMP:20251217T020514Z
SUMMARY:MS Student Gov't Meeting
URL;VALUE=URI:https://www.sau14.org/emhs/calendar/8692403/ms-student-govt-m
 eeting
DTSTART:20251016T183000Z
DTEND:20251016T193000Z
END:VEVENT
END:VCALENDAR
