BEGIN:VCALENDAR
VERSION:2.0
PRODID:SchoolNow
CALSCALE:GREGORIAN
BEGIN:VEVENT
UID:1e2823ec-a391-11f0-bf76-0a58a9feac02
DTSTAMP:20251217T020514Z
SUMMARY:Small Group To Mt Major ( RB )
URL;VALUE=URI:https://www.sau14.org/emhs/calendar/8702859/small-group-to-mt
 -major-rb
DTSTART:20251017T114500Z
DTEND:20251017T181500Z
END:VEVENT
END:VCALENDAR
