BEGIN:VCALENDAR
VERSION:2.0
PRODID:SchoolNow
CALSCALE:GREGORIAN
BEGIN:VEVENT
UID:1b919cfc-a3c4-11f0-94a1-0a58a9feac02
DTSTAMP:20251217T020514Z
SUMMARY:Grades 8-12 Career Exploration Manufacturing & Trades Field Trip
LOCATION:Lakes Region Community College\, 379 Belmont Rd\, Laconia\, NH 032
 46\, USA
URL;VALUE=URI:https://www.sau14.org/emhs/calendar/8703860/grades-8-12-caree
 r-exploration-manufacturing-trades-field-trip
DTSTART:20251031T130000Z
DTEND:20251031T170000Z
END:VEVENT
END:VCALENDAR
