BEGIN:VCALENDAR
VERSION:2.0
PRODID:SchoolNow
CALSCALE:GREGORIAN
BEGIN:VEVENT
UID:1b91a08a-a3c4-11f0-90fa-0a58a9feac02
DTSTAMP:20251217T020514Z
SUMMARY:Youth & Government  Field Trip
LOCATION:YMCA of Concord\, 15 N State St\, Concord\, NH 03301\, USA
URL;VALUE=URI:https://www.sau14.org/emhs/calendar/8703861/youth-government-
 field-trip
DTSTART:20251107T130000Z
DTEND:20251107T190000Z
END:VEVENT
END:VCALENDAR
