BEGIN:VCALENDAR
VERSION:2.0
PRODID:SchoolNow
CALSCALE:GREGORIAN
BEGIN:VEVENT
UID:1b91a1ca-a3c4-11f0-bfe4-0a58a9feac02
DTSTAMP:20251217T020514Z
SUMMARY:Reach High Scholars Select Student Leaders
LOCATION:Saint Anselm College\, 100 St Anselm Dr\, Manchester\, NH 03102\, 
 USA
URL;VALUE=URI:https://www.sau14.org/emhs/calendar/8703862/reach-high-schola
 rs-select-student-leaders
DTSTART:20260212T124500Z
DTEND:20260212T191500Z
END:VEVENT
END:VCALENDAR
