BEGIN:VCALENDAR
VERSION:2.0
PRODID:SchoolNow
CALSCALE:GREGORIAN
BEGIN:VEVENT
UID:180902a8-a529-11f0-93ad-0a58a9feac02
DTSTAMP:20251217T020514Z
SUMMARY:Creative Writing Club
URL;VALUE=URI:https://www.sau14.org/emhs/calendar/8708985/creative-writing-
 club
DTSTART:20251124T193000Z
DTEND:20251124T203000Z
END:VEVENT
END:VCALENDAR
