BEGIN:VCALENDAR
VERSION:2.0
PRODID:SchoolNow
CALSCALE:GREGORIAN
BEGIN:VEVENT
UID:1809073a-a529-11f0-b0c2-0a58a9feac02
DTSTAMP:20251217T020514Z
SUMMARY:Creative Writing Club
URL;VALUE=URI:https://www.sau14.org/emhs/calendar/8708986/creative-writing-
 club
DTSTART:20251217T193000Z
DTEND:20251217T203000Z
END:VEVENT
END:VCALENDAR
