BEGIN:VCALENDAR
VERSION:2.0
PRODID:SchoolNow
CALSCALE:GREGORIAN
BEGIN:VEVENT
UID:d5e15e20-a924-11f0-a269-0a58a9feac02
DTSTAMP:20251217T020514Z
SUMMARY:PAC Meeting
LOCATION:Media Center
URL;VALUE=URI:https://www.sau14.org/emhs/calendar/8722125/pac-meeting
DTSTART:20251106T220000Z
DTEND:20251106T230000Z
END:VEVENT
END:VCALENDAR
