BEGIN:VCALENDAR
VERSION:2.0
PRODID:SchoolNow
CALSCALE:GREGORIAN
BEGIN:VEVENT
UID:c8b4ba78-aabc-11f0-a9e7-0a58a9feac02
DTSTAMP:20251217T020514Z
SUMMARY:Class Of 2029 Car Show
LOCATION:EMHS Parking Lot
URL;VALUE=URI:https://www.sau14.org/emhs/calendar/8727599/class-of-2029-car
 -show
DTSTART:20260509T140000Z
DTEND:20260509T180000Z
END:VEVENT
END:VCALENDAR
