BEGIN:VCALENDAR
VERSION:2.0
PRODID:SchoolNow
CALSCALE:GREGORIAN
BEGIN:VEVENT
UID:c8b4be1a-aabc-11f0-98f6-0a58a9feac02
DTSTAMP:20251217T020514Z
SUMMARY:Senior Class Holiday Gift Wrapping
LOCATION:Media Center
URL;VALUE=URI:https://www.sau14.org/emhs/calendar/8727600/senior-class-holi
 day-gift-wrapping
DTSTART:20251205T220000Z
DTEND:20251206T010000Z
END:VEVENT
END:VCALENDAR
