BEGIN:VCALENDAR
VERSION:2.0
PRODID:SchoolNow
CALSCALE:GREGORIAN
BEGIN:VEVENT
UID:c8b4bf5a-aabc-11f0-844d-0a58a9feac02
DTSTAMP:20251217T020514Z
SUMMARY:( Canceled ) Senior Class Holiday Gift Wrapping
URL;VALUE=URI:https://www.sau14.org/emhs/calendar/8727601/canceled-senior-c
 lass-holiday-gift-wrapping
DTSTART:20251212T220000Z
DTEND:20251213T010000Z
END:VEVENT
END:VCALENDAR
