BEGIN:VCALENDAR
VERSION:2.0
PRODID:SchoolNow
CALSCALE:GREGORIAN
BEGIN:VEVENT
UID:c8b4c072-aabc-11f0-bf98-0a58a9feac02
DTSTAMP:20251217T020514Z
SUMMARY:Costa Rica Parent & Student Info Meeting
LOCATION:Media Center
URL;VALUE=URI:https://www.sau14.org/emhs/calendar/8727602/costa-rica-parent
 -student-info-meeting
DTSTART:20251023T220000Z
DTEND:20251023T230000Z
END:VEVENT
END:VCALENDAR
