BEGIN:VCALENDAR
VERSION:2.0
PRODID:SchoolNow
CALSCALE:GREGORIAN
BEGIN:VEVENT
UID:8ce9641e-ade9-11f0-8606-029a4a85451d
DTSTAMP:20251217T020514Z
SUMMARY:Lions Club Vision Screening
URL;VALUE=URI:https://www.sau14.org/emhs/calendar/8736125/lions-club-vision
 -screening
DTSTART:20251113T123000Z
DTEND:20251113T164500Z
END:VEVENT
END:VCALENDAR
