BEGIN:VCALENDAR
VERSION:2.0
PRODID:SchoolNow
CALSCALE:GREGORIAN
BEGIN:VEVENT
UID:8d116a0e-ade9-11f0-b535-029a4a85451d
DTSTAMP:20251217T020515Z
SUMMARY:SCHOOL BOARD MEETING
URL;VALUE=URI:https://www.sau14.org/emhs/calendar/8736126/school-board-meet
 ing
DTSTART:20270617T230000Z
DTEND:20270618T010000Z
END:VEVENT
END:VCALENDAR
