BEGIN:VCALENDAR
VERSION:2.0
PRODID:SchoolNow
CALSCALE:GREGORIAN
BEGIN:VEVENT
UID:093a7d26-af81-11f0-8dd0-0a58a9feac02
DTSTAMP:20251217T020514Z
SUMMARY:Alumni Boys Basketball Game
LOCATION:O'Day Gym
URL;VALUE=URI:https://www.sau14.org/emhs/calendar/8743173/alumni-boys-baske
 tball-game
DTSTART:20251126T230000Z
DTEND:20251127T010000Z
END:VEVENT
END:VCALENDAR
