BEGIN:VCALENDAR
VERSION:2.0
PRODID:SchoolNow
CALSCALE:GREGORIAN
BEGIN:VEVENT
UID:ff0786b0-b04c-11f0-b300-0efe17e6ef0f
DTSTAMP:20251217T020514Z
SUMMARY:Class Of 2029 Volleyball Tournament
LOCATION:O'Day Gym
URL;VALUE=URI:https://www.sau14.org/emhs/calendar/8745372/class-of-2029-vol
 leyball-tournament
DTSTART:20260124T230000Z
DTEND:20260125T020000Z
END:VEVENT
END:VCALENDAR
