BEGIN:VCALENDAR
VERSION:2.0
PRODID:SchoolNow
CALSCALE:GREGORIAN
BEGIN:VEVENT
UID:ff078a16-b04c-11f0-a2fa-0efe17e6ef0f
DTSTAMP:20251217T020514Z
SUMMARY:Make Up Date For Class Of 2029 Volleyball Tournament
LOCATION:O'Day Gym
URL;VALUE=URI:https://www.sau14.org/emhs/calendar/8745373/make-up-date-for-
 class-of-2029-volleyball-tournament
DTSTART:20260207T230000Z
DTEND:20260208T020000Z
END:VEVENT
END:VCALENDAR
