BEGIN:VCALENDAR
VERSION:2.0
PRODID:SchoolNow
CALSCALE:GREGORIAN
BEGIN:VEVENT
UID:ff078b6a-b04c-11f0-bc78-0efe17e6ef0f
DTSTAMP:20251217T020514Z
SUMMARY:Senior Class Movie Night - Polar Express
LOCATION:Allen Gym
URL;VALUE=URI:https://www.sau14.org/emhs/calendar/8745374/senior-class-movi
 e-night-polar-express
DTSTART:20251205T230000Z
DTEND:20251206T010000Z
END:VEVENT
END:VCALENDAR
